BEGIN:VCALENDAR
VERSION:2.0
PRODID:-//PYVOBJECT//NONSGML Version 0.9.9//EN
BEGIN:VTIMEZONE
TZID:CET
BEGIN:STANDARD
DTSTART:20001029T040000
RRULE:FREQ=YEARLY;BYDAY=-1SU;BYMONTH=10
TZNAME:CET
TZOFFSETFROM:+0200
TZOFFSETTO:+0100
END:STANDARD
BEGIN:DAYLIGHT
DTSTART:20000326T030000
RRULE:FREQ=YEARLY;BYDAY=-1SU;BYMONTH=3
TZNAME:CEST
TZOFFSETFROM:+0100
TZOFFSETTO:+0200
END:DAYLIGHT
END:VTIMEZONE
BEGIN:VEVENT
UID:event-94
DTSTART;TZID=CET:20260317T190000
DTEND;TZID=CET:20260317T204500
DESCRIPTION:Professorinnen werden an der HAWK - Vortrag
DTSTAMP:20260420T041102Z
LOCATION:ZOOM
SUMMARY:Professorinnen werden an der HAWK
URL:https://alumni-hawk.de/events/94/
END:VEVENT
END:VCALENDAR
