BEGIN:VCALENDAR
VERSION:2.0
PRODID:-//PYVOBJECT//NONSGML Version 0.9.9//EN
BEGIN:VTIMEZONE
TZID:CET
BEGIN:STANDARD
DTSTART:20001029T040000
RRULE:FREQ=YEARLY;BYDAY=-1SU;BYMONTH=10
TZNAME:CET
TZOFFSETFROM:+0200
TZOFFSETTO:+0100
END:STANDARD
BEGIN:DAYLIGHT
DTSTART:20000326T030000
RRULE:FREQ=YEARLY;BYDAY=-1SU;BYMONTH=3
TZNAME:CEST
TZOFFSETFROM:+0100
TZOFFSETTO:+0200
END:DAYLIGHT
END:VTIMEZONE
BEGIN:VEVENT
UID:event-161
DTSTART;TZID=CET:20260115T160000
DTEND;TZID=CET:20260115T180000
DESCRIPTION:Baugespräch: "Offene Architekturen" mit Frank Schönert\, Hüt
 ten & Paläste\, Berlin - Veranstaltung
DTSTAMP:20260420T041037Z
GEO:52.1427943,9.9589323
LOCATION:Hohnsen 2\, 31134 Hildesheim
SUMMARY:Baugespräch: "Offene Architekturen" mit Frank Schönert\, Hütten 
 & Paläste\, Berlin
URL:https://alumni-hawk.de/events/161/
END:VEVENT
END:VCALENDAR
