BEGIN:VCALENDAR
VERSION:2.0
PRODID:-//PYVOBJECT//NONSGML Version 0.9.9//EN
BEGIN:VTIMEZONE
TZID:CET
BEGIN:STANDARD
DTSTART:20001029T040000
RRULE:FREQ=YEARLY;BYDAY=-1SU;BYMONTH=10
TZNAME:CET
TZOFFSETFROM:+0200
TZOFFSETTO:+0100
END:STANDARD
BEGIN:DAYLIGHT
DTSTART:20000326T030000
RRULE:FREQ=YEARLY;BYDAY=-1SU;BYMONTH=3
TZNAME:CEST
TZOFFSETFROM:+0100
TZOFFSETTO:+0200
END:DAYLIGHT
END:VTIMEZONE
BEGIN:VEVENT
UID:event-160
DTSTART;TZID=CET:20260110T120000
DTEND;TZID=CET:20260110T130000
DESCRIPTION:Infoveranstaltung Master "Management und Führung"! - Veranstal
 tung
DTSTAMP:20260420T041037Z
LOCATION:https://kurzlinks.de/5zv3 \nKenncode: Management
SUMMARY:Infoveranstaltung Master "Management und Führung"!
URL:https://alumni-hawk.de/events/160/
END:VEVENT
END:VCALENDAR
