BEGIN:VCALENDAR
VERSION:2.0
PRODID:-//PYVOBJECT//NONSGML Version 0.9.9//EN
BEGIN:VTIMEZONE
TZID:CET
BEGIN:STANDARD
DTSTART:20001029T040000
RRULE:FREQ=YEARLY;BYDAY=-1SU;BYMONTH=10
TZNAME:CET
TZOFFSETFROM:+0200
TZOFFSETTO:+0100
END:STANDARD
BEGIN:DAYLIGHT
DTSTART:20000326T030000
RRULE:FREQ=YEARLY;BYDAY=-1SU;BYMONTH=3
TZNAME:CEST
TZOFFSETFROM:+0100
TZOFFSETTO:+0200
END:DAYLIGHT
END:VTIMEZONE
BEGIN:VEVENT
UID:event-157
DTSTART;TZID=CET:20260122T170000
DTEND;TZID=CET:20260122T180000
DESCRIPTION:LinkedIn für Einsteiger*innen für Stipendiat*innen und Förde
 rnden - Vortrag
DTSTAMP:20260420T040827Z
LOCATION:ZOOM
SUMMARY:LinkedIn für Einsteiger*innen für Stipendiat*innen und Fördernden
URL:https://alumni-hawk.de/events/157/
END:VEVENT
END:VCALENDAR
