BEGIN:VCALENDAR
VERSION:2.0
PRODID:-//PYVOBJECT//NONSGML Version 0.9.9//EN
BEGIN:VTIMEZONE
TZID:CET
BEGIN:STANDARD
DTSTART:20001029T040000
RRULE:FREQ=YEARLY;BYDAY=-1SU;BYMONTH=10
TZNAME:CET
TZOFFSETFROM:+0200
TZOFFSETTO:+0100
END:STANDARD
BEGIN:DAYLIGHT
DTSTART:20000326T030000
RRULE:FREQ=YEARLY;BYDAY=-1SU;BYMONTH=3
TZNAME:CEST
TZOFFSETFROM:+0100
TZOFFSETTO:+0200
END:DAYLIGHT
END:VTIMEZONE
BEGIN:VEVENT
UID:event-143
DTSTART;TZID=CET:20250603T160000
DTEND;TZID=CET:20250603T180000
DESCRIPTION:Alumni Talks: Bauen - Veranstaltung
DTSTAMP:20260420T040828Z
GEO:52.1427943,9.9589323
LOCATION:Hohnsen 2\, 31134 Hildesheim
SUMMARY:Alumni Talks: Bauen
URL:https://alumni-hawk.de/events/143/
END:VEVENT
END:VCALENDAR
