BEGIN:VCALENDAR
VERSION:2.0
PRODID:-//PYVOBJECT//NONSGML Version 0.9.9//EN
BEGIN:VTIMEZONE
TZID:CET
BEGIN:STANDARD
DTSTART:20001029T040000
RRULE:FREQ=YEARLY;BYDAY=-1SU;BYMONTH=10
TZNAME:CET
TZOFFSETFROM:+0200
TZOFFSETTO:+0100
END:STANDARD
BEGIN:DAYLIGHT
DTSTART:20000326T030000
RRULE:FREQ=YEARLY;BYDAY=-1SU;BYMONTH=3
TZNAME:CEST
TZOFFSETFROM:+0100
TZOFFSETTO:+0200
END:DAYLIGHT
END:VTIMEZONE
BEGIN:VEVENT
UID:event-141
DTSTART;TZID=CET:20250515T160000
DTEND;TZID=CET:20250515T180000
DESCRIPTION:Baugespräch: "Energetische Sanierung 2.0 - Der serielle Weg zu
 r Klimaneutralität" - Veranstaltung
DTSTAMP:20260420T041102Z
GEO:
LOCATION:Hohnsen 2\, 31134 Hildesheim
SUMMARY:Baugespräch: "Energetische Sanierung 2.0 - Der serielle Weg zur Kl
 imaneutralität"
URL:https://alumni-hawk.de/events/141/
END:VEVENT
END:VCALENDAR
