BEGIN:VCALENDAR
VERSION:2.0
PRODID:-//PYVOBJECT//NONSGML Version 0.9.9//EN
BEGIN:VTIMEZONE
TZID:CET
BEGIN:STANDARD
DTSTART:20001029T040000
RRULE:FREQ=YEARLY;BYDAY=-1SU;BYMONTH=10
TZNAME:CET
TZOFFSETFROM:+0200
TZOFFSETTO:+0100
END:STANDARD
BEGIN:DAYLIGHT
DTSTART:20000326T030000
RRULE:FREQ=YEARLY;BYDAY=-1SU;BYMONTH=3
TZNAME:CEST
TZOFFSETFROM:+0100
TZOFFSETTO:+0200
END:DAYLIGHT
END:VTIMEZONE
BEGIN:VEVENT
UID:event-138
DTSTART;TZID=CET:20251114T160000
DTEND;TZID=CET:20251114T210000
DESCRIPTION:Alumni Event WING 2025 - Veranstaltung
DTSTAMP:20260423T104843Z
GEO:51.5476096,9.9324889
LOCATION:Annastraße 25\, 37075 Göttingen
SUMMARY:Alumni Event WING 2025
URL:https://alumni-hawk.de/events/138/
END:VEVENT
END:VCALENDAR
