BEGIN:VCALENDAR
VERSION:2.0
PRODID:-//PYVOBJECT//NONSGML Version 0.9.9//EN
BEGIN:VTIMEZONE
TZID:CET
BEGIN:STANDARD
DTSTART:20001029T040000
RRULE:FREQ=YEARLY;BYDAY=-1SU;BYMONTH=10
TZNAME:CET
TZOFFSETFROM:+0200
TZOFFSETTO:+0100
END:STANDARD
BEGIN:DAYLIGHT
DTSTART:20000326T030000
RRULE:FREQ=YEARLY;BYDAY=-1SU;BYMONTH=3
TZNAME:CEST
TZOFFSETFROM:+0100
TZOFFSETTO:+0200
END:DAYLIGHT
END:VTIMEZONE
BEGIN:VEVENT
UID:event-137
DTSTART;TZID=CET:20250425T100000
DTEND;TZID=CET:20250425T150000
DESCRIPTION:Demokratie-Bus wieder on Tour: Konrad-Adenauer-Stiftung und Fli
 xBus schließen Kooperation - Veranstaltung
DTSTAMP:20260420T055737Z
GEO:
LOCATION:Haarmannplatz 3\, 37603 Holzminden
SUMMARY:Demokratie-Bus wieder on Tour: Konrad-Adenauer-Stiftung und FlixBus
  schließen Kooperation
URL:https://alumni-hawk.de/events/137/
END:VEVENT
END:VCALENDAR
