BEGIN:VCALENDAR
VERSION:2.0
PRODID:-//PYVOBJECT//NONSGML Version 0.9.9//EN
BEGIN:VTIMEZONE
TZID:CET
BEGIN:STANDARD
DTSTART:20001029T040000
RRULE:FREQ=YEARLY;BYDAY=-1SU;BYMONTH=10
TZNAME:CET
TZOFFSETFROM:+0200
TZOFFSETTO:+0100
END:STANDARD
BEGIN:DAYLIGHT
DTSTART:20000326T030000
RRULE:FREQ=YEARLY;BYDAY=-1SU;BYMONTH=3
TZNAME:CEST
TZOFFSETFROM:+0100
TZOFFSETTO:+0200
END:DAYLIGHT
END:VTIMEZONE
BEGIN:VEVENT
UID:event-125
DTSTART;TZID=CET:20250426T160000
DTEND;TZID=CET:20250426T183000
DESCRIPTION:Absolventenverabschiedung und Alumnitreffen des Studiengangs BW
 L bbgl. - Veranstaltung
DTSTAMP:20260420T040950Z
GEO:-0.4909455303423576,-0.59326171875
LOCATION:Zeppelinstraße 6\, 37603 Holzminden
SUMMARY:Absolventenverabschiedung und Alumnitreffen des Studiengangs BWL bb
 gl.
URL:https://alumni-hawk.de/events/125/
END:VEVENT
END:VCALENDAR
